BEGIN:VCALENDAR
VERSION:2.0
PRODID:-//SVP Herrliberg //NONSGML Events //EN
CALSCALE:GREGORIAN
X-WR-CALNAME:SVP Herrliberg
BEGIN:VEVENT
CREATED:20191121T112959Z
UID:1088
DTEND:20191203T200000
DTSTART:20191203T193000
DTSTAMP:20260424T061553Z
LOCATION:Glockenhof\, Sihlstrasse 33\, Zürich
DESCRIPTION:Thema: Die Schweiz: Bald linksgrüne Volksrepublik? Anschliessend Apé
SUMMARY:Referat von alt Nationalrat Ulrich Schlüer
ORGANIZER:
URL;VALUE=URI:https://www.svp-herrliberg.ch/termine/referat-von-alt-nationalrat-ulrich-schlueer/
TRANSP:OPAQUE
END:VEVENT
END:VCALENDAR
