BEGIN:VCALENDAR
VERSION:2.0
PRODID:-//SVP Herrliberg //NONSGML Events //EN
CALSCALE:GREGORIAN
X-WR-CALNAME:SVP Herrliberg
BEGIN:VEVENT
CREATED:20210412T191359Z
UID:1631
DTEND:20210505T200000
DTSTART:20210505T193000
DTSTAMP:20260423T113032Z
LOCATION:
DESCRIPTION:Online
SUMMARY:SVP Kanton Zürich Delegiertenversammlung
ORGANIZER:
URL;VALUE=URI:https://www.svp-herrliberg.ch/termine/svp-kanton-zuerich-delegiertenversammlung-2/
TRANSP:OPAQUE
END:VEVENT
END:VCALENDAR
