BEGIN:VCALENDAR
VERSION:2.0
PRODID:-//SVP Herrliberg //NONSGML Events //EN
CALSCALE:GREGORIAN
X-WR-CALNAME:SVP Herrliberg
BEGIN:VEVENT
CREATED:20220405T092606Z
UID:2118
DTEND:20220514T120000
DTSTART:20220514T100000
DTSTAMP:20260422T160742Z
LOCATION:
DESCRIPTION:Kappenbühlweg, Zürich-Höngg.
SUMMARY:Stadt Zürich / Kreis 10: Standaktion
ORGANIZER:
URL;VALUE=URI:https://www.svp-herrliberg.ch/termine/stadt-zuerich-kreis-10-standaktion-29/
TRANSP:OPAQUE
END:VEVENT
END:VCALENDAR
