BEGIN:VCALENDAR
VERSION:2.0
PRODID:-//SVP Herrliberg //NONSGML Events //EN
CALSCALE:GREGORIAN
X-WR-CALNAME:SVP Herrliberg
BEGIN:VEVENT
CREATED:20221129T145212Z
UID:2470
DTEND:20221209T190000
DTSTART:20221209T180000
DTSTAMP:20260424T192722Z
LOCATION:
DESCRIPTION:Restaurant Schützenruh, Uetlibergstrasse 300, Zürich. Anmeldung bis 
SUMMARY:Junge SVP Kanton Zürich / West City: Kegelanlass
ORGANIZER:
URL;VALUE=URI:https://www.svp-herrliberg.ch/termine/junge-svp-kanton-zuerich-west-city-kegelanlass/
TRANSP:OPAQUE
END:VEVENT
END:VCALENDAR
