BEGIN:VCALENDAR
VERSION:2.0
PRODID:-//SVP Herrliberg //NONSGML Events //EN
CALSCALE:GREGORIAN
X-WR-CALNAME:SVP Herrliberg
BEGIN:VEVENT
CREATED:20240625T090013Z
UID:3272
DTEND:20240815T190000
DTSTART:20240815T183000
DTSTAMP:20260423T133316Z
LOCATION:
DESCRIPTION:Schützenstube, Hintere Bergstrasse, Oberrieden, mit Nationalrat Marce
SUMMARY:Bezirk Horgen: Grillabend
ORGANIZER:
URL;VALUE=URI:https://www.svp-herrliberg.ch/termine/bezirk-horgen-grillabend/
TRANSP:OPAQUE
END:VEVENT
END:VCALENDAR
