BEGIN:VCALENDAR
VERSION:2.0
PRODID:-//SVP Herrliberg //NONSGML Events //EN
CALSCALE:GREGORIAN
X-WR-CALNAME:SVP Herrliberg
BEGIN:VEVENT
CREATED:20251214T171634Z
UID:3896
DTEND:20260602T200000
DTSTART:20260602T190000
DTSTAMP:20260422T090541Z
LOCATION:Schlattgut
DESCRIPTION:
SUMMARY:SVP Herrliberg\, Parteiversammlung
ORGANIZER:
URL;VALUE=URI:https://www.svp-herrliberg.ch/termine/svp-herrliberg-parteiversammlung-5/
TRANSP:OPAQUE
END:VEVENT
END:VCALENDAR
