BEGIN:VCALENDAR
VERSION:2.0
PRODID:-//SVP Herrliberg //NONSGML Events //EN
CALSCALE:GREGORIAN
X-WR-CALNAME:SVP Herrliberg
BEGIN:VEVENT
CREATED:20251214T172013Z
UID:3904
DTEND:20260930T000000
DTSTART:20260930T000000
DTSTAMP:20260422T091914Z
LOCATION:Zürichsee
DESCRIPTION:
SUMMARY:SVP Bezirk Meilen\, Schifffahrt
ORGANIZER:
URL;VALUE=URI:https://www.svp-herrliberg.ch/termine/svp-bezirk-meilen-schifffahrt/
TRANSP:OPAQUE
END:VEVENT
END:VCALENDAR
