BEGIN:VCALENDAR
VERSION:2.0
PRODID:-//SVP Herrliberg //NONSGML Events //EN
CALSCALE:GREGORIAN
X-WR-CALNAME:SVP Herrliberg
BEGIN:VEVENT
CREATED:20251219T125739Z
UID:3937
DTEND:20260512T200000
DTSTART:20260512T193000
DTSTAMP:20260422T090100Z
LOCATION:
DESCRIPTION:Anna Stüssi Haus, Oberdorfstrasse 3, Dänikon, mit Nationalrat Thomas
SUMMARY:Bezirk Dielsdorf / Dänikon: Veranstaltung zur Nachhaltigkeits-Initiative
ORGANIZER:
URL;VALUE=URI:https://www.svp-herrliberg.ch/termine/bezirk-dielsdorf-daenikon-veranstaltung-zur-nachhaltigkeits-initiative/
TRANSP:OPAQUE
END:VEVENT
END:VCALENDAR
