BEGIN:VCALENDAR
VERSION:2.0
PRODID:-//SVP Herrliberg //NONSGML Events //EN
CALSCALE:GREGORIAN
X-WR-CALNAME:SVP Herrliberg
BEGIN:VEVENT
CREATED:20260202T120200Z
UID:4017
DTEND:20260328T130000
DTSTART:20260328T090000
DTSTAMP:20260422T085757Z
LOCATION:
DESCRIPTION:vor der Wertstoffsammelstelle Kempten, Stationsstrasse 19, Wetzikon.
SUMMARY:Bezirk Hinwil / Wetzikon: Standaktion
ORGANIZER:
URL;VALUE=URI:https://www.svp-herrliberg.ch/termine/bezirk-hinwil-wetzikon-standaktion-14/
TRANSP:OPAQUE
END:VEVENT
END:VCALENDAR
