BEGIN:VCALENDAR
VERSION:2.0
PRODID:-//SVP Herrliberg //NONSGML Events //EN
CALSCALE:GREGORIAN
X-WR-CALNAME:SVP Herrliberg
BEGIN:VEVENT
CREATED:20260317T090329Z
UID:4049
DTEND:20260519T200000
DTSTART:20260519T193000
DTSTAMP:20260422T090100Z
LOCATION:
DESCRIPTION:Gemeindesaal, Am Rainli 4, Bonstetten, mit den Nationalräten Martin H
SUMMARY:Bezirk Affoltern / Bonstetten: Podium Nachhaltigkeits-Initiative und EU-Verträge
ORGANIZER:
URL;VALUE=URI:https://www.svp-herrliberg.ch/termine/bezirk-affoltern-bonstetten-podium-nachhaltigkeits-initiative-und-eu-vertraege/
TRANSP:OPAQUE
END:VEVENT
END:VCALENDAR
