BEGIN:VCALENDAR
VERSION:2.0
PRODID:-//SVP Herrliberg //NONSGML Events //EN
CALSCALE:GREGORIAN
X-WR-CALNAME:SVP Herrliberg
BEGIN:VEVENT
CREATED:20260325T072618Z
UID:4059
DTEND:20260511T200000
DTSTART:20260511T193000
DTSTAMP:20260422T085959Z
LOCATION:
DESCRIPTION:Reformiertes Kirchgemeindehaus, Rösslirain 2, Zollikon, mit Nationalr
SUMMARY:Bezirk Meilen / Zollikon: Veranstaltung gegen den EU-Unterwerfungsvertrag
ORGANIZER:
URL;VALUE=URI:https://www.svp-herrliberg.ch/termine/bezirk-meilen-zollikon-veranstaltung-gegen-den-eu-unterwerfungsvertrag/
TRANSP:OPAQUE
END:VEVENT
END:VCALENDAR
