BEGIN:VCALENDAR
VERSION:2.0
PRODID:-//SVP Herrliberg //NONSGML Events //EN
CALSCALE:GREGORIAN
X-WR-CALNAME:SVP Herrliberg
BEGIN:VEVENT
CREATED:20260415T044425Z
UID:4079
DTEND:20260613T190000
DTSTART:20260613T180000
DTSTAMP:20260424T075817Z
LOCATION:
DESCRIPTION:Firma Stutz Baggerunternehmung, Bärchistrasse 6, Marthalen, mit Natio
SUMMARY:Bezirk Andelfingen / Marthalen: Veranstaltung gegen den EU-Unterwerfungsvertrag
ORGANIZER:
URL;VALUE=URI:https://www.svp-herrliberg.ch/termine/bezirk-andelfingen-marthalen-veranstaltung-gegen-den-eu-unterwerfungsvertrag/
TRANSP:OPAQUE
END:VEVENT
END:VCALENDAR
