BEGIN:VCALENDAR
VERSION:2.0
PRODID:-//SVP Herrliberg //NONSGML Events //EN
CALSCALE:GREGORIAN
X-WR-CALNAME:SVP Herrliberg
BEGIN:VEVENT
CREATED:20260414T113550Z
UID:4080
DTEND:20260930T110000
DTSTART:20260930T100000
DTSTAMP:20260424T080122Z
LOCATION:
DESCRIPTION:Besuch und Führung in der Win4/AXA-Arena, Grüzefeldstrasse 36, Winte
SUMMARY:Anlass für die ehemaligen SVP-Räte
ORGANIZER:
URL;VALUE=URI:https://www.svp-herrliberg.ch/termine/anlass-fuer-die-ehemaligen-svp-raete/
TRANSP:OPAQUE
END:VEVENT
END:VCALENDAR
