BEGIN:VCALENDAR
VERSION:2.0
PRODID:-//SVP Herrliberg //NONSGML Events //EN
CALSCALE:GREGORIAN
X-WR-CALNAME:SVP Herrliberg
BEGIN:VEVENT
CREATED:20260413T113620Z
UID:4081
DTEND:20260628T000000
DTSTART:20260626T000000
DTSTAMP:20260424T080052Z
LOCATION:
DESCRIPTION:Dorfstrasse, Niederhasli.
SUMMARY:Bezirk Dielsdorf / Niederhasli: SVP-Stand am Dorffest
ORGANIZER:
URL;VALUE=URI:https://www.svp-herrliberg.ch/termine/bezirk-dielsdorf-niederhasli-svp-stand-am-dorffest/
TRANSP:OPAQUE
END:VEVENT
END:VCALENDAR
