BEGIN:VCALENDAR
VERSION:2.0
PRODID:-//SVP Herrliberg //NONSGML Events //EN
CALSCALE:GREGORIAN
X-WR-CALNAME:SVP Herrliberg
BEGIN:VEVENT
CREATED:20260423T075519Z
UID:4084
DTEND:20260502T110000
DTSTART:20260502T100000
DTSTAMP:20260424T075954Z
LOCATION:
DESCRIPTION:Lindehus Turbenthal, Lindenweg 2, Turbenthal, mit Kantonsrat Tobias We
SUMMARY:Bezirk Winterthur / Turbenthal: Podium Nachhaltigkeits-Initiative und EU-Vertrag
ORGANIZER:
URL;VALUE=URI:https://www.svp-herrliberg.ch/termine/bezirk-winterthur-turbenthal-podium-nachhaltigkeits-initiative-und-eu-vertrag/
TRANSP:OPAQUE
END:VEVENT
END:VCALENDAR
